BEGIN:VCALENDAR
VERSION:2.0
PRODID:-//South Bank Triathlon Club - ECPv4.6.2//NONSGML v1.0//EN
CALSCALE:GREGORIAN
METHOD:PUBLISH
X-WR-CALNAME:South Bank Triathlon Club
X-ORIGINAL-URL:https://www.sbtc.com.au
X-WR-CALDESC:Events for South Bank Triathlon Club
BEGIN:VEVENT
DTSTART;VALUE=DATE:20200226
DTEND;VALUE=DATE:20200228
DTSTAMP:20200302T153120
CREATED:20200222T100115Z
LAST-MODIFIED:20200222T100115Z
UID:24655-1582711200-1582797599@www.sbtc.com.au
SUMMARY:Launceston Cup (Launceston only) - TAS
DESCRIPTION:
URL:https://www.sbtc.com.au/event/launceston-cup-launceston-only-tas-3/
CATEGORIES:National and State Public Holidays
END:VEVENT
BEGIN:VEVENT
DTSTART;VALUE=DATE:20200302
DTEND;VALUE=DATE:20200304
DTSTAMP:20200302T153120
CREATED:20200222T100116Z
LAST-MODIFIED:20200222T100116Z
UID:24656-1583143200-1583229599@www.sbtc.com.au
SUMMARY:Labour Day - WA
DESCRIPTION:
URL:https://www.sbtc.com.au/event/labour-day-wa-3/
CATEGORIES:National and State Public Holidays
END:VEVENT
BEGIN:VEVENT
DTSTART;VALUE=DATE:20200303
DTEND;VALUE=DATE:20200305
DTSTAMP:20200302T153120
CREATED:20200222T100116Z
LAST-MODIFIED:20200222T100116Z
UID:24657-1583229600-1583315999@www.sbtc.com.au
SUMMARY:King Island Show (King Island only) - TAS
DESCRIPTION:
URL:https://www.sbtc.com.au/event/king-island-show-king-island-only-tas-3/
CATEGORIES:National and State Public Holidays
END:VEVENT
BEGIN:VEVENT
DTSTART;VALUE=DATE:20200309
DTEND;VALUE=DATE:20200311
DTSTAMP:20200302T153120
CREATED:20200222T100116Z
LAST-MODIFIED:20200222T100116Z
UID:24658-1583748000-1583834399@www.sbtc.com.au
SUMMARY:Public Holiday - VIC\, TAS\, SA\, ACT
DESCRIPTION:Labour Day – Victoria\nEight Hours Day – Tasmania\nAdelaide Cup Day – South Australia\nCanberra Day – Australian Capital Territory \n
URL:https://www.sbtc.com.au/event/public-holiday-vic-tas-sa-act/
CATEGORIES:National and State Public Holidays
END:VEVENT
END:VCALENDAR